BEGIN:VCALENDAR
VERSION:2.0
PRODID:-//ChamberMaster//Event Calendar 2.0//EN
METHOD:PUBLISH
X-PUBLISHED-TTL:P3D
REFRESH-INTERVAL:P3D
CALSCALE:GREGORIAN
BEGIN:VEVENT
DTSTART:20150203T140000Z
DTEND:20150203T170000Z
X-MICROSOFT-CDO-ALLDAYEVENT:FALSE
SUMMARY:Curves of Blairsville Relay for Life Fundraiser with Premier Designs Jewelry
DESCRIPTION:Be a Hero for Hope and Help Find a Cure for Cancer!! Join Curves of Blairsville and Premier Designs Jewelry by Alysia Hargus for fun\, fellowship and fashion!! ** Gentlemen...This is the perfect opportunity for you to pick out something for your sweetheart for Valentine's Day!! Supporting The Fight? Alysia Hargus of Premier Designs Jewelry will make a donation to the Curves Relay for Life Team from this event!!
X-ALT-DESC;FMTTYPE=text/html:Be a Hero for Hope and Help Find a Cure for Cancer!! Join Curves of Blairsville and Premier Designs Jewelry by Alysia Hargus for fun\, fellowship and fashion!! ** Gentlemen...This is the perfect opportunity for you to pick out something for your sweetheart for Valentine&#39\;s Day!! Supporting The Fight? Alysia Hargus of Premier Designs Jewelry will make a donation to the Curves Relay for Life Team from this event!!
LOCATION:Curves of Blairsville 215 Blue Ridge Street Blairsville\, GA 30512
UID:e.256.34622
SEQUENCE:3
DTSTAMP:20260423T230404Z
URL:https://members.visitblairsvillega.com/events/details/curves-of-blairsville-relay-for-life-fundraiser-with-premier-designs-jewelry-02-03-2015-34622
END:VEVENT

END:VCALENDAR
