BEGIN:VCALENDAR
VERSION:2.0
PRODID:-//ChamberMaster//Event Calendar 2.0//EN
METHOD:PUBLISH
X-PUBLISHED-TTL:P3D
REFRESH-INTERVAL:P3D
CALSCALE:GREGORIAN
BEGIN:VEVENT
DTSTART;VALUE=DATE:20140917
DTEND;VALUE=DATE:20140918
TRANSP:TRANSPARENT
X-MICROSOFT-CDO-ALLDAYEVENT:TRUE
SUMMARY:Curves Open House Celebration
DESCRIPTION:Curves of Blairsville One Day Open House\n\nSeptember 17th\n\n7am - 12noon & 2pm - 6pm \n\n\nCome in and meet the Paula\, Lucy and their staff\n\nRefreshments\, Door Prizes\n\nTry a free workout during our Open House September 15th - 20th\n\nNew Members get 30 Days Free!\n\n\n\nCurves International\, Inc\, Open House: September 15th - 20th\n\nWe're Opening Our Doors So You Can Change Your Life.
X-ALT-DESC;FMTTYPE=text/html:<div style="text-align: center\;"><strong>Curves of Blairsville One Day Open House<br />\nSeptember 17th<br />\n7am - 12noon &amp\; 2pm - 6pm </strong></div>\n<br />\nCome in and meet the Paula\, Lucy and their staff<br />\nRefreshments\, Door Prizes<br />\nTry a free workout during our Open House September 15th - 20th<br />\nNew Members get 30 Days Free!<br />\n<br />\nCurves International\, Inc\, Open House: September 15th - 20th<br />\nWe&#39\;re Opening Our Doors So You Can Change Your Life.<br />\n&nbsp\;
LOCATION:Curves of Blairsville 215D Blue Ridge Street Blairsville\, GA
UID:e.256.27327
SEQUENCE:3
DTSTAMP:20260424T063021Z
URL:https://members.visitblairsvillega.com/events/details/curves-open-house-celebration-09-17-2014-27327
END:VEVENT

END:VCALENDAR
