BEGIN:VCALENDAR
VERSION:2.0
PRODID:-//ChamberMaster//Event Calendar 2.0//EN
METHOD:PUBLISH
X-PUBLISHED-TTL:P3D
REFRESH-INTERVAL:P3D
CALSCALE:GREGORIAN
BEGIN:VEVENT
DTSTART:20140502T130000Z
DTEND:20140502T210000Z
X-MICROSOFT-CDO-ALLDAYEVENT:FALSE
SUMMARY:Customer Appreciation Day at United Community Bank\, Union County
DESCRIPTION:Customer Appreciation Day \n\nat United Community Bank \n\n\n\nFree tomato plants\, hot dogs\, soft drinks\, entertainment & door prizes.\n\nJoin United employees as they say\,\n\n" Thank you for your business!"
X-ALT-DESC;FMTTYPE=text/html:<p style="text-align: center\;"><span style="font-size: 16px\;"><em><strong>Customer Appreciation Day </strong></em></span><br />\n<span style="font-size: 14px\;"><em><strong>at United Community Bank </strong></em></span><br />\n<br />\nFree <span style="color: rgb(178\, 34\, 34)\;">tomato plants</span>\, hot dogs\, soft drinks\, entertainment &amp\; door prizes.</p>\n\n<p style="text-align: center\;">Join <span style="color: rgb(0\, 0\, 205)\;"><strong>United</strong></span> employees as they say\,<br />\n&quot\;&nbsp\;<span style="font-size: 12px\;"><strong>Thank you for your business</strong></span>!&quot\;&nbsp\;&nbsp\;</p>\n
LOCATION:United Community Bank 177 Highway 515 East\, Blairsville\, GA 30512
UID:e.256.13264
SEQUENCE:3
DTSTAMP:20260424T122739Z
URL:https://members.visitblairsvillega.com/events/details/customer-appreciation-day-at-united-community-bank-union-county-05-02-2014-13264
END:VEVENT

END:VCALENDAR
