BEGIN:VCALENDAR
VERSION:2.0
PRODID:-//ChamberMaster//Event Calendar 2.0//EN
METHOD:PUBLISH
X-PUBLISHED-TTL:P3D
REFRESH-INTERVAL:P3D
CALSCALE:GREGORIAN
BEGIN:VEVENT
DTSTART:20150501T130000Z
DTEND:20150501T210000Z
X-MICROSOFT-CDO-ALLDAYEVENT:FALSE
SUMMARY:Customer Appreciation Day for UCBI customers
DESCRIPTION:UCBI will be thanking their customers for their continued business and support by hosting a customer appreciation day. Stop in and enjoy some great giveaways\, delicious food and lots of family fun.   Food will begin at 10:30am.  Free tomato plants!!!
X-ALT-DESC;FMTTYPE=text/html:UCBI will be thanking their customers for their continued business and support by hosting a customer appreciation day. Stop in and enjoy some great giveaways\, delicious food and lots of family fun.&nbsp\; &nbsp\;Food will begin at 10:30am.&nbsp\; Free tomato plants!!!
LOCATION:United Community Bank 177 Highway 515 East
UID:e.256.37099
SEQUENCE:3
DTSTAMP:20260423T195442Z
URL:https://members.visitblairsvillega.com/events/details/customer-appreciation-day-for-ucbi-customers-05-01-2015-37099
END:VEVENT

END:VCALENDAR
