BEGIN:VCALENDAR
VERSION:2.0
PRODID:-//ChamberMaster//Event Calendar 2.0//EN
METHOD:PUBLISH
X-PUBLISHED-TTL:P3D
REFRESH-INTERVAL:P3D
CALSCALE:GREGORIAN
BEGIN:VEVENT
DTSTART:20150725T230000Z
DTEND:20150726T010000Z
X-MICROSOFT-CDO-ALLDAYEVENT:FALSE
SUMMARY:D.W. Musselwhite & The Crew
DESCRIPTION:Free blues music from 7-9 pm at Turner's Corner Cafe!
X-ALT-DESC;FMTTYPE=text/html:Free blues music from 7-9 pm at Turner&#39\;s Corner Cafe!
LOCATION:10 Turner's Corner Road Cleveland\, GA
UID:e.256.41288
SEQUENCE:3
DTSTAMP:20260423T151152Z
URL:https://members.visitblairsvillega.com/events/details/d-w-musselwhite-the-crew-07-25-2015-41288
END:VEVENT

END:VCALENDAR
