BEGIN:VCALENDAR
VERSION:2.0
PRODID:-//ChamberMaster//Event Calendar 2.0//EN
METHOD:PUBLISH
X-PUBLISHED-TTL:P3D
REFRESH-INTERVAL:P3D
CALSCALE:GREGORIAN
BEGIN:VEVENT
DTSTART:20150726T210000Z
DTEND:20150727T000000Z
X-MICROSOFT-CDO-ALLDAYEVENT:FALSE
SUMMARY:D.W. Musselwhite & The Crew
DESCRIPTION:Free blues music at The Blue Otter - 5-8pm!
X-ALT-DESC;FMTTYPE=text/html:Free blues music at The Blue Otter - 5-8pm!
LOCATION:The Blue Otter 3399 US Hwy 76 Hiawassee\, GA
UID:e.256.41289
SEQUENCE:3
DTSTAMP:20260423T165327Z
URL:https://members.visitblairsvillega.com/events/details/d-w-musselwhite-the-crew-07-26-2015-41289
END:VEVENT

END:VCALENDAR
