BEGIN:VCALENDAR
VERSION:2.0
PRODID:-//ChamberMaster//Event Calendar 2.0//EN
METHOD:PUBLISH
X-PUBLISHED-TTL:P3D
REFRESH-INTERVAL:P3D
CALSCALE:GREGORIAN
BEGIN:VEVENT
DTSTART:20150815T230000Z
DTEND:20150816T020000Z
X-MICROSOFT-CDO-ALLDAYEVENT:FALSE
SUMMARY:D.W. MUSSELWHITE & THE CREW - BLUES
DESCRIPTION:D.W. MUSSELWHITE & THE CREW\n\nBLUES BAND\n\nBLUE OTTER OUTSIDE PATIO\n\nSATURDAY AUGUST 15TH 7-10PM\n\nhttps://www.facebook.com/pages/DW-Musselwhite-The-Crew/765743063519888
X-ALT-DESC;FMTTYPE=text/html:<div style="text-align: center\;"><span style="font-family: verdana\;"><span style="font-size: 14px\;"><span style="color: rgb(0\, 0\, 255)\;"><strong><span style="font-size: 18px\;">D.W. MUSSELWHITE &amp\; THE CREW<br />\nBLUES BAND<br />\nBLUE OTTER OUTSIDE PATIO<br />\nSATURDAY AUGUST 15TH 7-10PM</span></strong></span></span></span></div>\n\n<div style="text-align: center\;"><a href="https://www.facebook.com/pages/DW-Musselwhite-The-Crew/765743063519888">https://www.facebook.com/pages/DW-Musselwhite-The-Crew/765743063519888</a></div>\n
LOCATION:BLUE OTTER - HIAWASSEE\, GA
UID:e.256.41389
SEQUENCE:3
DTSTAMP:20260423T151304Z
URL:https://members.visitblairsvillega.com/events/details/d-w-musselwhite-the-crew-blues-08-15-2015-41389
END:VEVENT

END:VCALENDAR
