BEGIN:VCALENDAR
VERSION:2.0
PRODID:-//ChamberMaster//Event Calendar 2.0//EN
METHOD:PUBLISH
X-PUBLISHED-TTL:P3D
REFRESH-INTERVAL:P3D
CALSCALE:GREGORIAN
BEGIN:VEVENT
DTSTART;VALUE=DATE:20140201
DTEND;VALUE=DATE:20140202
TRANSP:TRANSPARENT
X-MICROSOFT-CDO-ALLDAYEVENT:TRUE
SUMMARY:Daddy Daughter Dance
DESCRIPTION:Daddy Daughter Dance\n\nSaturday\, February 1st\, 2014\n\nNorth Georgia Technical College\n\n\n\nCost: $50.00 per couple $10.00 for each additional Daughter.\n\nDinner is included and Limo rides are available on a first come first serve basis.\n\nTickets are available at the Union County Recreation Office at 310 Wellborn Street.\n\nFor any questions call 706-439-6074.
X-ALT-DESC;FMTTYPE=text/html:<span style="font-family: tahoma\;"><span style="font-size: 14px\;">Daddy Daughter Dance</span><br />\nSaturday\, February 1st\, 2014<br />\nNorth Georgia Technical College<br />\n<br />\nCost: $50.00 per couple $10.00 for each additional Daughter.<br />\nDinner is included and Limo rides are available on a first come first serve basis.<br />\nTickets are available at the Union County Recreation Office at 310 Wellborn Street.<br />\nFor any questions call 706-439-6074.</span>
LOCATION:North Georgia Technical College 121 Meeks Avenue Blairsville\, GA
UID:e.256.21833
SEQUENCE:3
DTSTAMP:20260424T164337Z
URL:https://members.visitblairsvillega.com/events/details/daddy-daughter-dance-02-01-2014-21833
END:VEVENT

END:VCALENDAR
