BEGIN:VCALENDAR
VERSION:2.0
PRODID:-//ChamberMaster//Event Calendar 2.0//EN
METHOD:PUBLISH
X-PUBLISHED-TTL:P3D
REFRESH-INTERVAL:P3D
CALSCALE:GREGORIAN
BEGIN:VEVENT
DTSTART:20161119T230000Z
DTEND:20161120T020000Z
X-MICROSOFT-CDO-ALLDAYEVENT:FALSE
SUMMARY:Daddy Daughter Dance
DESCRIPTION:The Hackney Warehouse presents Pretty in Pink Daddy Daughter Dance 2016!\n\nSaturday\, November 19\, 2016 from 6 pm - 9 pm\n\nCome dance the night away with your favorite princesses\, professional DJ\, catering\, desert bar and much more!\n\n$50 per couple $10 each additional daughter
X-ALT-DESC;FMTTYPE=text/html:The Hackney Warehouse presents Pretty in Pink Daddy Daughter Dance 2016!<br />\nSaturday\, November 19\, 2016 from 6 pm - 9 pm<br />\nCome dance the night away with your favorite princesses\, professional DJ\, catering\, desert bar and much more!<br />\n$50 per couple $10 each additional daughter
LOCATION:11 Railroad Street Murphy\, North Carolina
UID:e.256.55587
SEQUENCE:3
DTSTAMP:20260420T112619Z
URL:https://members.visitblairsvillega.com/events/details/daddy-daughter-dance-11-19-2016-55587
END:VEVENT

END:VCALENDAR
