BEGIN:VCALENDAR
VERSION:2.0
PRODID:-//ChamberMaster//Event Calendar 2.0//EN
METHOD:PUBLISH
X-PUBLISHED-TTL:P3D
REFRESH-INTERVAL:P3D
CALSCALE:GREGORIAN
BEGIN:VEVENT
DTSTART;VALUE=DATE:20140223
DTEND;VALUE=DATE:20140224
TRANSP:TRANSPARENT
X-MICROSOFT-CDO-ALLDAYEVENT:TRUE
SUMMARY:Daffodil Days 2014 Flower of Hope Project
DESCRIPTION:Union County American Cancer Society Presents Daffodil Days 2014 Flower of Hope Project \n\nSurprise a friend\, family member\, or "adopt" a group with a beautiful bouquet of 10 fresh cut daffodils for a $5 donation to the American Cancer Society. \n\nPre-orders must be in by February 28th Contact Janet Hartman @ 706-781-8969\n\nFlowers will be ready to pick up 11:00 - 4:00 Monday\, March 17\, 2014 at Allegheny Lodge #114 F&AM on Rogers Street\, downtown Blairsville behind the Chevron Station Look for signs and balloons
X-ALT-DESC;FMTTYPE=text/html:<strong>Union County American Cancer Society Presents Daffodil Days 2014 Flower of Hope Project </strong><br />\nSurprise a friend\, family member\, or &quot\;adopt&quot\; a group with a beautiful bouquet of 10 fresh cut daffodils for a $5 donation to the American Cancer Society.&nbsp\;<br />\n<strong>Pre-orders must be in by February 28th </strong>Contact Janet Hartman @ 706-781-8969<br />\n<strong>Flowers will be ready to pick up 11:00 - 4:00 Monday</strong>\, March 17\, 2014 at Allegheny Lodge #114 F&amp\;AM on Rogers Street\, downtown Blairsville behind the Chevron Station Look for signs and balloons 
LOCATION:Allegheny Lodge #114 F&AM Rogers Street Blairsville
UID:e.256.23034
SEQUENCE:3
DTSTAMP:20260424T165316Z
URL:https://members.visitblairsvillega.com/events/details/daffodil-days-2014-flower-of-hope-project-02-23-2014-23034
END:VEVENT

END:VCALENDAR
