BEGIN:VCALENDAR
VERSION:2.0
PRODID:-//ChamberMaster//Event Calendar 2.0//EN
METHOD:PUBLISH
X-PUBLISHED-TTL:P3D
REFRESH-INTERVAL:P3D
CALSCALE:GREGORIAN
BEGIN:VEVENT
DTSTART:20140815T233000Z
DTEND:20140816T020000Z
X-MICROSOFT-CDO-ALLDAYEVENT:FALSE
SUMMARY:Dailey & Vincent
DESCRIPTION:Dailey & Vincent is one of the top Bluegrass bands in America. From the very beginning of their partnership in late 2007\, Jamie Dailey and Darrin Vincent quickly established themselves as fresh voices in their genre. The concoction of their fantastically powerful vocal blends\, 4 award-winning studio albums\, and heavy touring schedules has gained them well-deserved attention from bluegrass\, country\, and gospel critics and fans alike. Dailey & Vincent has been recognized as 3-time IBMA Entertainer of The Year\, 3-time IBMA Vocal Group of the Year\, 2-time Grammy nominee\, and Dove Award winners. Equally at home with material from any of the aforementioned genres\, Jamie and Darrin continue to expand on the possibilities of what kinds of music can become "Dailey & Vincent" music.
X-ALT-DESC;FMTTYPE=text/html:Dailey &amp\; Vincent is one of the top Bluegrass bands in America. From the very beginning of their partnership in late 2007\, Jamie Dailey and Darrin Vincent quickly established themselves as fresh voices in their genre. The concoction of their fantastically powerful vocal blends\, 4 award-winning studio albums\, and heavy touring schedules has gained them well-deserved attention from bluegrass\, country\, and gospel critics and fans alike. Dailey &amp\; Vincent has been recognized as 3-time IBMA Entertainer of The Year\, 3-time IBMA Vocal Group of the Year\, 2-time Grammy nominee\, and Dove Award winners. Equally at home with material from any of the aforementioned genres\, Jamie and Darrin continue to expand on the possibilities of what kinds of music can become &quot\;Dailey &amp\; Vincent&quot\; music.
LOCATION:Smoky Mountain Center for the Performing Arts 1028 Georgia Road Franklin\, NC 28734 Directions: From northeast Georgia\, take Highway 441 North across the NC/GA state line 12 miles into North Carolina. Turn right into the Theater driveway between AutoZone and Shoney's.
UID:e.256.25470
SEQUENCE:3
DTSTAMP:20260424T073546Z
URL:https://members.visitblairsvillega.com/events/details/dailey-vincent-08-15-2014-25470
END:VEVENT

END:VCALENDAR
