BEGIN:VCALENDAR
VERSION:2.0
PRODID:-//ChamberMaster//Event Calendar 2.0//EN
METHOD:PUBLISH
X-PUBLISHED-TTL:P3D
REFRESH-INTERVAL:P3D
CALSCALE:GREGORIAN
BEGIN:VEVENT
DTSTART:20170916T210000Z
DTEND:20170917T023000Z
X-MICROSOFT-CDO-ALLDAYEVENT:FALSE
SUMMARY:Dailey & Vincent LandFest
DESCRIPTION:Tickets now on sale for Dailey and Vincent Landefest - 3 day event
X-ALT-DESC;FMTTYPE=text/html:Tickets now on sale for Dailey and Vincent Landefest - 3 day event
LOCATION:Georgia Mountain Fairgrounds 1311 Music Hall Road Hiawassee\, GA 30546
UID:e.256.63599
SEQUENCE:3
DTSTAMP:20260419T175322Z
URL:https://members.visitblairsvillega.com/events/details/dailey-vincent-landfest-09-16-2017-63599
END:VEVENT

END:VCALENDAR
