BEGIN:VCALENDAR
VERSION:2.0
PRODID:-//ChamberMaster//Event Calendar 2.0//EN
METHOD:PUBLISH
X-PUBLISHED-TTL:P3D
REFRESH-INTERVAL:P3D
CALSCALE:GREGORIAN
BEGIN:VEVENT
DTSTART:20151206T003000Z
DTEND:20151206T033000Z
X-MICROSOFT-CDO-ALLDAYEVENT:FALSE
SUMMARY:Daily & Vincent
DESCRIPTION:In 2008\, James Dailey and Darrin Vincent became the most heralded new act in bluegrass with their debut album "Dailey & Vincent." That same year\, the group took home seven awards at the 2008 International Bluegrass Music Awards Show\, including Entertainer of the Year and Album of the Year. Bluegrass musicians through and through\, these "Brothers from Different Mothers" have found the closest thing to brotherhood- a true musical partnership. Join Dailey and Vincent as they celebrate the sounds of the Christmas season\, bluegrass style.
X-ALT-DESC;FMTTYPE=text/html:In 2008\, James Dailey and Darrin Vincent became the most heralded new act in bluegrass with their debut album &quot\;Dailey &amp\; Vincent.&quot\; That same year\, the group took home seven awards at the 2008 International Bluegrass Music Awards Show\, including Entertainer of the Year and Album of the Year. Bluegrass musicians through and through\, these &quot\;Brothers from Different Mothers&quot\; have found the closest thing to brotherhood- a true musical partnership. Join Dailey and Vincent as they celebrate the sounds of the Christmas season\, bluegrass style.
LOCATION:Smoky Mountain Center for the Performing Arts 1028 Georgia Road Franklin\, NC 28734
UID:e.256.41404
SEQUENCE:3
DTSTAMP:20260421T073903Z
URL:https://members.visitblairsvillega.com/events/details/daily-vincent-12-05-2015-41404
END:VEVENT

END:VCALENDAR
