BEGIN:VCALENDAR
VERSION:2.0
PRODID:-//ChamberMaster//Event Calendar 2.0//EN
METHOD:PUBLISH
X-PUBLISHED-TTL:P3D
REFRESH-INTERVAL:P3D
CALSCALE:GREGORIAN
BEGIN:VEVENT
DTSTART:20151206T010000Z
DTEND:20151206T040000Z
X-MICROSOFT-CDO-ALLDAYEVENT:FALSE
SUMMARY:Dance at Ann's Pickin Parlor
DESCRIPTION:Country Music Bank "Do a LiL Pickin" will be at Ann's Pickin Parlor.  Come out for some good old country music and dancing.  Fun for the whole family
X-ALT-DESC;FMTTYPE=text/html:Country Music Bank &quot\;Do a LiL Pickin&quot\; will be at Ann&#39\;s Pickin Parlor.&nbsp\; Come out for some good old country music and dancing.&nbsp\; Fun for the whole family
LOCATION:Ann's Pickin Parlor in McCayesville\, GA
UID:e.256.44297
SEQUENCE:3
DTSTAMP:20260421T074155Z
URL:https://members.visitblairsvillega.com/events/details/dance-at-ann-s-pickin-parlor-12-05-2015-44297
END:VEVENT

END:VCALENDAR
