BEGIN:VCALENDAR
VERSION:2.0
PRODID:-//ChamberMaster//Event Calendar 2.0//EN
METHOD:PUBLISH
X-PUBLISHED-TTL:P3D
REFRESH-INTERVAL:P3D
CALSCALE:GREGORIAN
BEGIN:VEVENT
DTSTART:20151205T003000Z
DTEND:20151205T033000Z
X-MICROSOFT-CDO-ALLDAYEVENT:FALSE
SUMMARY:Dance at Bill's Roller Rink
DESCRIPTION:Good Old Country Music and Dancing!  Come join "Do a LiL Pickin" Band for an evening of fun for the whole family.
X-ALT-DESC;FMTTYPE=text/html:Good Old Country Music and Dancing!&nbsp\; Come join &quot\;Do a LiL Pickin&quot\; Band for an evening of fun for the whole family.
LOCATION:Bill's Roller Rink - Old Blue Ridge Highway
UID:e.256.44282
SEQUENCE:3
DTSTAMP:20260421T074004Z
URL:https://members.visitblairsvillega.com/events/details/dance-at-bill-s-roller-rink-12-04-2015-44282
END:VEVENT

END:VCALENDAR
