BEGIN:VCALENDAR
VERSION:2.0
PRODID:-//ChamberMaster//Event Calendar 2.0//EN
METHOD:PUBLISH
X-PUBLISHED-TTL:P3D
REFRESH-INTERVAL:P3D
CALSCALE:GREGORIAN
BEGIN:VEVENT
DTSTART:20171104T230000Z
DTEND:20171105T020000Z
X-MICROSOFT-CDO-ALLDAYEVENT:FALSE
SUMMARY:Dancing with North GA Stars
DESCRIPTION:Enotah CASA presents Dancing with North Georgia Stars. Local celebrities are partnered with experienced dancers to vye for both the Mirror Ball Trophy and the People's Choice Award. Tickets are available for the show for $25 and combo tickets for the show and after-show gala for $40. The gala includes refreshments\, music\, dancing\, and tastings from Grandaddy Mimm's Moonshine Distillery. Tickets may be purchased at United Community Bank in Blairsville and Hiawassee and the Towns County Chamber of Commerce or on-line at www.dancingwithnorthgeorgiastars.com.
X-ALT-DESC;FMTTYPE=text/html:Enotah CASA presents Dancing with North Georgia Stars. Local celebrities are partnered with experienced dancers to vye for both the Mirror Ball Trophy and the People&#39\;s Choice Award. Tickets are available for the show for $25 and combo tickets for the show and after-show gala for $40. The gala includes refreshments\, music\, dancing\, and tastings from Grandaddy Mimm&#39\;s Moonshine Distillery. Tickets may be purchased at United Community Bank in Blairsville and Hiawassee and the Towns County Chamber of Commerce or on-line at www.dancingwithnorthgeorgiastars.com.
LOCATION:Union County Fine Arts Center 926 Panther Overlook Blairsville\, GA
UID:e.256.76468
SEQUENCE:3
DTSTAMP:20260419T155720Z
URL:https://members.visitblairsvillega.com/events/details/dancing-with-north-ga-stars-76468
END:VEVENT

END:VCALENDAR
