BEGIN:VCALENDAR
VERSION:2.0
PRODID:-//ChamberMaster//Event Calendar 2.0//EN
METHOD:PUBLISH
X-PUBLISHED-TTL:P3D
REFRESH-INTERVAL:P3D
CALSCALE:GREGORIAN
BEGIN:VEVENT
DTSTART:20161105T230000Z
DTEND:20161106T013000Z
X-MICROSOFT-CDO-ALLDAYEVENT:FALSE
SUMMARY:Dancing With North Georgia Stars Towns/Union 2016 Competition
DESCRIPTION:The event\, which is a take-off on the hit reality TV show\, will feature local celebrities performing a variety of dances with a professional dance partner from the community.  There will also be other entertainment including music\, singing and group choreographed dance routines at the show and a Gala after party with music\, dance and a chance to meet the celebrities and their dance partners.\n\nThe dancers compete to win one of two awards: the People's Choice Award determined by the couple receiving the most votes based on funds they will have raised\, and the Judges Award scored on choreography\, costume and technical performance. Funds raised by this event  will  support  Enotah CASA\, a not for profit organization that provides  trained community volunteers\,  appointed by a juvenile judge\,  to advocate for the best interest of abused or neglected children in  foster care from Towns\, Union\, Lumpkin & White counties.
X-ALT-DESC;FMTTYPE=text/html:<span style="font-size: 16px\;"><span style="font-family: times new roman\;">The event\, which is a take-off on the hit reality TV show\, will feature local celebrities performing a variety of dances with a professional dance partner from the community.&nbsp\; There will also be other entertainment including music\, singing and group choreographed dance routines at the show and a Gala after party with music\, dance and a chance to meet the celebrities and their dance partners.<br />\nThe dancers compete to win one of two awards: the People&rsquo\;s Choice Award determined by the couple receiving the most votes based on funds they will have raised\, and the Judges Award scored on choreography\, costume and technical performance. Funds raised by this event&nbsp\; will&nbsp\; support&nbsp\; Enotah CASA\, a not for profit organization that provides&nbsp\; trained community volunteers\,&nbsp\; appointed by a juvenile judge\,&nbsp\; to advocate for the best interest of abused or neglected children in&nbsp\; foster care from Towns\, Union\, Lumpkin &amp\; White counties.&nbsp\; &nbsp\;</span></span>
LOCATION:Union County Schools Fine Arts Center 926 Panther Overlook Blairsville\, GA 30512
UID:e.256.54046
SEQUENCE:3
DTSTAMP:20260420T113810Z
URL:https://members.visitblairsvillega.com/events/details/dancing-with-north-georgia-stars-towns-union-2016-competition-11-05-2016-54046
END:VEVENT

END:VCALENDAR
