BEGIN:VCALENDAR
VERSION:2.0
PRODID:-//ChamberMaster//Event Calendar 2.0//EN
METHOD:PUBLISH
X-PUBLISHED-TTL:P3D
REFRESH-INTERVAL:P3D
CALSCALE:GREGORIAN
BEGIN:VEVENT
DTSTART:20161106T013000Z
DTEND:20161106T030000Z
X-MICROSOFT-CDO-ALLDAYEVENT:FALSE
SUMMARY:Dancing With North Georgia Stars Towns/Union 2016 Gala After Party
DESCRIPTION:Join our celebrity and professional dancers for a fun after show Gala featuring music\, dancing with our stars\, hors d'oeuvres\, moonshine tasting and a cash bar. have your photograph taken with your favorite Dancing with North Georgia Star or team.\n\nFunds raised by this event  will  support  Enotah CASA\, a not for profit organization that provides  trained community volunteers\,  appointed by a juvenile judge\,  to advocate for the best interest of abused or neglected children in  foster care from Towns\, Union\, Lumpkin & White counties.
X-ALT-DESC;FMTTYPE=text/html:<span style="font-size: 16px\;"><span style="font-family: times new roman\;">Join our celebrity and professional dancers for a fun after show Gala featuring music\, dancing with our stars\, hors d&#39\;oeuvres\, moonshine tasting and a cash bar. have your photograph taken with your favorite Dancing with North Georgia Star or team.<br />\nFunds raised by this event&nbsp\; will&nbsp\; support&nbsp\; Enotah CASA\, a not for profit organization that provides&nbsp\; trained community volunteers\,&nbsp\; appointed by a juvenile judge\,&nbsp\; to advocate for the best interest of abused or neglected children in&nbsp\; foster care from Towns\, Union\, Lumpkin &amp\; White counties.&nbsp\; &nbsp\;</span></span>
LOCATION:North Georgia Technical College 121 Meeks Ave. Blairsville\, GA 30512
UID:e.256.54047
SEQUENCE:3
DTSTAMP:20260420T114043Z
URL:https://members.visitblairsvillega.com/events/details/dancing-with-north-georgia-stars-towns-union-2016-gala-after-party-11-05-2016-54047
END:VEVENT

END:VCALENDAR
