BEGIN:VCALENDAR
VERSION:2.0
PRODID:-//ChamberMaster//Event Calendar 2.0//EN
METHOD:PUBLISH
X-PUBLISHED-TTL:P3D
REFRESH-INTERVAL:P3D
CALSCALE:GREGORIAN
BEGIN:VEVENT
DTSTART:20160422T230000Z
DTEND:20160423T020000Z
X-MICROSOFT-CDO-ALLDAYEVENT:FALSE
SUMMARY:Dancing with the North Georgia Stars
DESCRIPTION:Dancing with the North Georgia Stars to benefit Enotah CASA\, Inc A competitive dancing competition featuring celebrity dancers from the region. All funds raised by this event will assist Enotah CASA\, Inc. with the training and management of additional volunteers to serve as a consistent adult figure and a voice for the vulnerable children in our foster care system in Lumpkin\, White\, Union and Towns counties. To learn more about becoming a volunteer or make a donation\, please visit www.enotahcasa.org or call 706-864-0300. A Gala Reception will follow the competition at the Dahlonega Marketplace.
X-ALT-DESC;FMTTYPE=text/html:Dancing with the North Georgia Stars to benefit Enotah CASA\, Inc A competitive dancing competition featuring celebrity dancers from the region. All funds raised by this event will assist Enotah CASA\, Inc. with the training and management of additional volunteers to serve as a consistent adult figure and a voice for the vulnerable children in our foster care system in Lumpkin\, White\, Union and Towns counties. To learn more about becoming a volunteer or make a donation\, please visit www.enotahcasa.org or call 706-864-0300. <strong>A Gala Reception will follow the competition at the Dahlonega Marketplace.</strong>
LOCATION:The Holly Theater Dahlonega\, Georgia A Gala Reception will follow the competition at the Dahlonega Marketplace.
UID:e.256.48273
SEQUENCE:3
DTSTAMP:20260421T002615Z
URL:https://members.visitblairsvillega.com/events/details/dancing-with-the-north-georgia-stars-04-22-2016-48273
END:VEVENT

END:VCALENDAR
