BEGIN:VCALENDAR
VERSION:2.0
PRODID:-//ChamberMaster//Event Calendar 2.0//EN
METHOD:PUBLISH
X-PUBLISHED-TTL:P3D
REFRESH-INTERVAL:P3D
CALSCALE:GREGORIAN
BEGIN:VEVENT
DTSTART:20140414T213000Z
DTEND:20140414T223000Z
X-MICROSOFT-CDO-ALLDAYEVENT:FALSE
SUMMARY:Darkness 2 Light - Preventing Child Sexual Abuse
DESCRIPTION:This class will focus on preventing child sexual abuse and is taught by S.A.F.E. which is supported in part by the Governor's Office for Children & Families. Specific interests are to parents\, youth sports organization / coaches\, youth service organizations\, teachers/school personnel\, and church children/youth group leaders. Continuing education hours for professionals can also be obtained.
X-ALT-DESC;FMTTYPE=text/html:This class will focus on preventing child sexual abuse and is taught by S.A.F.E. which is supported in part by the Governor&#39\;s Office for Children &amp\; Families. Specific interests are to parents\, youth sports organization / coaches\, youth service organizations\, teachers/school personnel\, and church children/youth group leaders. Continuing education hours for professionals can also be obtained.
LOCATION:Union General Hospital\, 2nd Floor Classroom
UID:e.256.23325
SEQUENCE:3
DTSTAMP:20260424T133549Z
URL:https://members.visitblairsvillega.com/events/details/darkness-2-light-preventing-child-sexual-abuse-04-14-2014-23325
END:VEVENT

END:VCALENDAR
