BEGIN:VCALENDAR
VERSION:2.0
PRODID:-//ChamberMaster//Event Calendar 2.0//EN
METHOD:PUBLISH
X-PUBLISHED-TTL:P3D
REFRESH-INTERVAL:P3D
CALSCALE:GREGORIAN
BEGIN:VEVENT
DTSTART:20140811T213000Z
DTEND:20140811T223000Z
X-MICROSOFT-CDO-ALLDAYEVENT:FALSE
SUMMARY:Darkness to Light
DESCRIPTION:Child Sexual Abuse Prevention Training. This class is for any responsible adult who cares about the protection of children such as parents\, grandparents\, caregivers\, teachers\, coaches\, and adults who work in youth serving organizations.
X-ALT-DESC;FMTTYPE=text/html:Child Sexual Abuse Prevention Training. This class is for any responsible adult who cares about the protection of children such as parents\, grandparents\, caregivers\, teachers\, coaches\, and adults who work in youth serving organizations.
LOCATION:Union General Hospital\, 2nd Floor Classroom
UID:e.256.24537
SEQUENCE:3
DTSTAMP:20260424T073552Z
URL:https://members.visitblairsvillega.com/events/details/darkness-to-light-08-11-2014-24537
END:VEVENT

END:VCALENDAR
