BEGIN:VCALENDAR
VERSION:2.0
PRODID:-//ChamberMaster//Event Calendar 2.0//EN
METHOD:PUBLISH
X-PUBLISHED-TTL:P3D
REFRESH-INTERVAL:P3D
CALSCALE:GREGORIAN
BEGIN:VEVENT
DTSTART:20151001T200000Z
DTEND:20151001T230000Z
X-MICROSOFT-CDO-ALLDAYEVENT:FALSE
SUMMARY:Darling\, it's been a decade! Help us celebrate our 10 year anniversary!
DESCRIPTION:Join us for our 10th anniversary party October 1st\, 4-7 PM. Live music\, food\, sales\, & giveaways. Win a Fossil handbag! Raffle drawings at 4:30 and 6:30. Must be present to win.
X-ALT-DESC;FMTTYPE=text/html:Join us for our <strong>10th anniversary</strong> party October 1st\, 4-7 PM. Live music\, food\, sales\, &amp\; giveaways. Win a <strong>Fossil </strong>handbag! Raffle drawings at 4:30 and 6:30. Must be present to win.&nbsp\;
LOCATION:518 North Main St. Suite 1 Hiawassee\, Ga 30546
UID:e.256.44254
SEQUENCE:3
DTSTAMP:20260423T103228Z
URL:https://members.visitblairsvillega.com/events/details/darling-it-s-been-a-decade-help-us-celebrate-our-10-year-anniversary-10-01-2015-44254
END:VEVENT

END:VCALENDAR
