BEGIN:VCALENDAR
VERSION:2.0
PRODID:-//ChamberMaster//Event Calendar 2.0//EN
METHOD:PUBLISH
X-PUBLISHED-TTL:P3D
REFRESH-INTERVAL:P3D
CALSCALE:GREGORIAN
BEGIN:VEVENT
DTSTART:20151217T230000Z
DTEND:20151218T010000Z
X-MICROSOFT-CDO-ALLDAYEVENT:FALSE
SUMMARY:"DART NITE"
DESCRIPTION:"DART NITE"\n\nEVERY THURSDAY IN THE PUB ROOM\n\n6:00 PM TO 8:00 PM\n\nEVERYONE WELCOME TO JOIN THE FUN!
X-ALT-DESC;FMTTYPE=text/html:<div style="text-align: center\;"><strong>&quot\;DART NITE&quot\;<br />\nEVERY THURSDAY IN THE PUB ROOM<br />\n6:00 PM TO 8:00 PM<br />\nEVERYONE WELCOME TO JOIN THE FUN!</strong><br />\n&nbsp\;</div>\n
LOCATION:MONET'S ITALIAN GRILL & PIZZERIA 130 Blue Ridge St.
UID:e.256.43982
SEQUENCE:3
DTSTAMP:20260421T073848Z
URL:https://members.visitblairsvillega.com/events/details/dart-nite-12-17-2015-43982
END:VEVENT

END:VCALENDAR
