BEGIN:VCALENDAR
VERSION:2.0
PRODID:-//ChamberMaster//Event Calendar 2.0//EN
METHOD:PUBLISH
X-PUBLISHED-TTL:P3D
REFRESH-INTERVAL:P3D
CALSCALE:GREGORIAN
BEGIN:VEVENT
DTSTART:20140823T110000Z
DTEND:20140823T110000Z
X-MICROSOFT-CDO-ALLDAYEVENT:FALSE
SUMMARY:Dash to the Vineyards
DESCRIPTION:Join us in a sanctioned 10K road race through the rolling hills of Young Harris in the North Georgia Mountains. The race will start at Brasstown Valley Resort's Riding Stables and finish at Crane Creek Vineyards. There will also be an unsanctioned 1 mile Fun Run for children (must be accompanied by an adult.)\n\n\n\nRegister: Call Towns County Chamber of Commerce @ 706896-4966 or register online at www.active.com\n\nRace Day begins at 7am at Brasstown Valley Stables
X-ALT-DESC;FMTTYPE=text/html:Join us in a sanctioned 10K road race through the rolling hills of Young Harris in the North Georgia Mountains. The race will start at Brasstown Valley Resort&#39\;s Riding Stables and finish at Crane Creek Vineyards. There will also be an unsanctioned 1 mile Fun Run for children (must be accompanied by an adult.)<br />\n<br />\nRegister: Call Towns County Chamber of Commerce @ 706896-4966 or register online at www.active.com<br />\nRace Day begins at 7am at Brasstown Valley Stables
LOCATION:Brasstown Valley Resort Riding Stables 6321 Hwy 76 Hiawassee\, GA
UID:e.256.23239
SEQUENCE:3
DTSTAMP:20260424T073636Z
URL:https://members.visitblairsvillega.com/events/details/dash-to-the-vineyards-08-23-2014-23239
END:VEVENT

END:VCALENDAR
