BEGIN:VCALENDAR
VERSION:2.0
PRODID:-//ChamberMaster//Event Calendar 2.0//EN
METHOD:PUBLISH
X-PUBLISHED-TTL:P3D
REFRESH-INTERVAL:P3D
CALSCALE:GREGORIAN
BEGIN:VEVENT
DTSTART:20170213T000000Z
DTEND:20170213T020000Z
X-MICROSOFT-CDO-ALLDAYEVENT:FALSE
SUMMARY:Date Nite
DESCRIPTION:Join Drs. Les and Leslie Parrott in a live simulcast on the big screen of the SMCPA for a fun evening filled with humor\, fresh insight and new strategies for your relationship. Date Night 2/12 is for everyone- newlyweds\, "oldyweds\," seriously dating\, engaged couples- anyone wanting to make a good relationship great. Drs. Les and Leslie Parrott are a husband and wife team who not only share the same name\, but the same passion for helping others build healthy relationships. Married in 1984\, the Parrotts bring real-life examples to their speaking platform. Their professional training\, Leslie as a marriage therapist and Les as a clinical psychologist\, ensures a presentation that is grounded\, insightful and cutting edge. As #1 New York Times best-selling authors\, their books have sold over two million copies in more than two dozen languages\, and include best-selling and Gold-medallion winner\, "Saving Your Marriage Before It Starts." Other popular titles include\, "Real Relationships\," "L.O.V.E.\," "The Parent Who You Want to Be\," "Trading Places\," "The Complete Guide to Marriage Mentoring\," and "Love Talk."
X-ALT-DESC;FMTTYPE=text/html:Join Drs. Les and Leslie Parrott in a live simulcast on the big screen of the SMCPA for a fun evening filled with humor\, fresh insight and new strategies for your relationship. Date Night 2/12 is for everyone- newlyweds\, &quot\;oldyweds\,&quot\; seriously dating\, engaged couples- anyone wanting to make a good relationship great. Drs. Les and Leslie Parrott are a husband and wife team who not only share the same name\, but the same passion for helping others build healthy relationships. Married in 1984\, the Parrotts bring real-life examples to their speaking platform. Their professional training\, Leslie as a marriage therapist and Les as a clinical psychologist\, ensures a presentation that is grounded\, insightful and cutting edge. As #1 New York Times best-selling authors\, their books have sold over two million copies in more than two dozen languages\, and include best-selling and Gold-medallion winner\, &quot\;Saving Your Marriage Before It Starts.&quot\; Other popular titles include\, &quot\;Real Relationships\,&quot\; &quot\;L.O.V.E.\,&quot\; &quot\;The Parent Who You Want to Be\,&quot\; &quot\;Trading Places\,&quot\; &quot\;The Complete Guide to Marriage Mentoring\,&quot\; and &quot\;Love Talk.&quot\;
LOCATION:Smoky Mountain Center for the Performing Arts 1028 Georgia Road Franklin\, NC 28734
UID:e.256.64128
SEQUENCE:3
DTSTAMP:20260420T055503Z
URL:https://members.visitblairsvillega.com/events/details/date-nite-64128
END:VEVENT

END:VCALENDAR
