BEGIN:VCALENDAR
VERSION:2.0
PRODID:-//ChamberMaster//Event Calendar 2.0//EN
METHOD:PUBLISH
X-PUBLISHED-TTL:P3D
REFRESH-INTERVAL:P3D
CALSCALE:GREGORIAN
BEGIN:VEVENT
DTSTART:20151012T230000Z
DTEND:20151013T000000Z
X-MICROSOFT-CDO-ALLDAYEVENT:FALSE
SUMMARY:DAV Monthly Meeting
DESCRIPTION:The Disabled American Veterans meet on the 2nd Tuesday of every month at 7pm in the Veterans Center.
X-ALT-DESC;FMTTYPE=text/html:The Disabled American Veterans meet on the 2nd Tuesday of every month at 7pm in the Veterans Center.
LOCATION:Veterans Building 78 Old Blue Ridge Hwy Blairsville
UID:e.256.40626
SEQUENCE:3
DTSTAMP:20260423T115749Z
URL:https://members.visitblairsvillega.com/events/details/dav-monthly-meeting-10-12-2015-40626
END:VEVENT

END:VCALENDAR
