BEGIN:VCALENDAR
VERSION:2.0
PRODID:-//ChamberMaster//Event Calendar 2.0//EN
METHOD:PUBLISH
X-PUBLISHED-TTL:P3D
REFRESH-INTERVAL:P3D
CALSCALE:GREGORIAN
BEGIN:VEVENT
DTSTART:20160520T220000Z
DTEND:20160521T000000Z
X-MICROSOFT-CDO-ALLDAYEVENT:FALSE
SUMMARY:David Meece Concert at FUMC
DESCRIPTION:***Due to illness\, this concert has been canceled***\n\n\n\nInternational recording artist\, anointed songwriter and minister of the Gospel\, David Meece is known for his beloved classics such as "We Are the Reason". "One Small Child\, "My Father's Chair" and many others. He brings a message of challenge\, comfort and conviction. No charge\; love offering. All are welcome!
X-ALT-DESC;FMTTYPE=text/html:<span style="color:#FF0000\;">***Due to illness\, this concert has been canceled***</span><br />\n<br />\nInternational recording artist\, anointed songwriter and minister of the Gospel\, David Meece is known for his beloved classics such as &quot\;We Are the Reason&quot\;. &quot\;One Small Child\, &quot\;My Father&#39\;s Chair&quot\; and many others. He brings a message of challenge\, comfort and conviction. No charge\; love offering. All are welcome!
LOCATION:MAC building at First United Methodist of Union County
UID:e.256.50974
SEQUENCE:3
DTSTAMP:20260421T002520Z
URL:https://members.visitblairsvillega.com/events/details/david-meece-concert-at-fumc-05-20-2016-50974
END:VEVENT

END:VCALENDAR
