BEGIN:VCALENDAR
VERSION:2.0
PRODID:-//ChamberMaster//Event Calendar 2.0//EN
METHOD:PUBLISH
X-PUBLISHED-TTL:P3D
REFRESH-INTERVAL:P3D
CALSCALE:GREGORIAN
BEGIN:VEVENT
DTSTART:20160624T233000Z
DTEND:20160625T013000Z
X-MICROSOFT-CDO-ALLDAYEVENT:FALSE
SUMMARY:David Phelps
DESCRIPTION:Date: June 24\, 2016 Show Time: 7:30pm Ticket Prices: $22\, $25 Looking back on David Phelp's own legacy\, so far\, he has come a long way from Tomball\, Texas. Over the greater part of the last two decades\, David's artistry has grown to echo off the walls of Carnegie Hall\, and vibrate the chandeliers in the White House and in countless halls and churches around the world. His masterful melodies have been burned into critically-acclaimed solo offerings\, award-winning Gaither Vocal Band CDs and Gold and Platinum Gaither "Homecoming" collections. It has been a showcase far above the expectations of any ordinary artist. But for David\, a perpetual work in progress\, these happy years have been just an extended glimpse of the Creator's bigger picture. Pushing the boundaries is every artist's goal\, and David's focus is beyond the ordinary\, trusting in that Divine design.
X-ALT-DESC;FMTTYPE=text/html:Date: June 24\, 2016 Show Time: 7:30pm Ticket Prices: $22\, $25 Looking back on David Phelp&#39\;s own legacy\, so far\, he has come a long way from Tomball\, Texas. Over the greater part of the last two decades\, David&#39\;s artistry has grown to echo off the walls of Carnegie Hall\, and vibrate the chandeliers in the White House and in countless halls and churches around the world. His masterful melodies have been burned into critically-acclaimed solo offerings\, award-winning Gaither Vocal Band CDs and Gold and Platinum Gaither &quot\;Homecoming&quot\; collections. It has been a showcase far above the expectations of any ordinary artist. But for David\, a perpetual work in progress\, these happy years have been just an extended glimpse of the Creator&#39\;s bigger picture. Pushing the boundaries is every artist&#39\;s goal\, and David&#39\;s focus is beyond the ordinary\, trusting in that Divine design.
LOCATION:Smoky Mountain Center for the Performing Arts 1028 Georgia Road Franklin\, NC 28734
UID:e.256.48267
SEQUENCE:3
DTSTAMP:20260420T202448Z
URL:https://members.visitblairsvillega.com/events/details/david-phelps-06-24-2016-48267
END:VEVENT

END:VCALENDAR
