BEGIN:VCALENDAR
VERSION:2.0
PRODID:-//ChamberMaster//Event Calendar 2.0//EN
METHOD:PUBLISH
X-PUBLISHED-TTL:P3D
REFRESH-INTERVAL:P3D
CALSCALE:GREGORIAN
BEGIN:VEVENT
DTSTART:20141212T000000Z
DTEND:20141212T020000Z
X-MICROSOFT-CDO-ALLDAYEVENT:FALSE
SUMMARY:David Vowell - An evening of ancient carols
DESCRIPTION:December 11 at 7 p.m.\, celebrate the season with your ears and your voice as David Vowell leads us in an evening of ancient carols. Handbell enthusiasts will enjoy the Brasstown Ringers' Holiday Concert on December 12 at 7 p.m. This talented regional ensemble will showcase Christmas favorites along with spirited new selections. Donations are welcome.
X-ALT-DESC;FMTTYPE=text/html:December 11 at 7 p.m.\, celebrate the season with your ears and your voice as David Vowell leads us in an evening of ancient carols. Handbell enthusiasts will enjoy the Brasstown Ringers&#39\; Holiday Concert on December 12 at 7 p.m. This talented regional ensemble will showcase Christmas favorites along with spirited new selections. Donations are welcome.
LOCATION:John C Campbell Folk School Brasstown\, NC
UID:e.256.28026
SEQUENCE:3
DTSTAMP:20260424T020425Z
URL:https://members.visitblairsvillega.com/events/details/david-vowell-an-evening-of-ancient-carols-12-11-2014-28026
END:VEVENT

END:VCALENDAR
