BEGIN:VCALENDAR
VERSION:2.0
PRODID:-//ChamberMaster//Event Calendar 2.0//EN
METHOD:PUBLISH
X-PUBLISHED-TTL:P3D
REFRESH-INTERVAL:P3D
CALSCALE:GREGORIAN
BEGIN:VEVENT
DTSTART:20141209T000000Z
DTEND:20141209T010000Z
X-MICROSOFT-CDO-ALLDAYEVENT:FALSE
SUMMARY:Dealing with Trauma
DESCRIPTION:Emotional trauma can have dramatic impacts on many lives\, we want to help you understand and recognize these symptoms Topics Include: Understanding Emotional Responses to Trauma How to Recognize Symptoms How to Cope Emotional Support Treatment
X-ALT-DESC;FMTTYPE=text/html:Emotional trauma can have dramatic impacts on many lives\, we want to help you understand and recognize these symptoms Topics Include: Understanding Emotional Responses to Trauma How to Recognize Symptoms How to Cope Emotional Support Treatment
LOCATION:Union General Hospital 2nd Floor Classroom
UID:e.256.28076
SEQUENCE:3
DTSTAMP:20260424T015918Z
URL:https://members.visitblairsvillega.com/events/details/dealing-with-trauma-12-08-2014-28076
END:VEVENT

END:VCALENDAR
