BEGIN:VCALENDAR
VERSION:2.0
PRODID:-//ChamberMaster//Event Calendar 2.0//EN
METHOD:PUBLISH
X-PUBLISHED-TTL:P3D
REFRESH-INTERVAL:P3D
CALSCALE:GREGORIAN
BEGIN:VEVENT
DTSTART:20160424T180000Z
DTEND:20160424T190000Z
X-MICROSOFT-CDO-ALLDAYEVENT:FALSE
SUMMARY:Dedication of The Scout Building for Boys & Girls
DESCRIPTION:The community is invited to the dedication of The Scout Building for Boys & Girls located on the First United Methodist Church's campus. Community and those interested in scouting are invited. Refreshments will be served.
X-ALT-DESC;FMTTYPE=text/html:The community is invited to the dedication of The Scout Building for Boys &amp\; Girls located on the First United Methodist Church&#39\;s campus. Community and those interested in scouting are invited. Refreshments will be served.
LOCATION:FUMC is located on Hwy 515 across from Meeks Park. The Scout Building is located at the back of the parking area.
UID:e.256.49996
SEQUENCE:3
DTSTAMP:20260421T003039Z
URL:https://members.visitblairsvillega.com/events/details/dedication-of-the-scout-building-for-boys-girls-04-24-2016-49996
END:VEVENT

END:VCALENDAR
