BEGIN:VCALENDAR
VERSION:2.0
PRODID:-//ChamberMaster//Event Calendar 2.0//EN
METHOD:PUBLISH
X-PUBLISHED-TTL:P3D
REFRESH-INTERVAL:P3D
CALSCALE:GREGORIAN
BEGIN:VEVENT
DTSTART:20160727T223000Z
DTEND:20160728T030000Z
X-MICROSOFT-CDO-ALLDAYEVENT:FALSE
SUMMARY:Denim and Diamonds
DESCRIPTION:Georgia Mountains Hospice and WoodmenLife/Richard York will be hosting a Denim and Diamonds event on August 27th at Willow Creek Falls in Blue Ridge. Wear your blue Jeans\, your boots and your bling. An evening of dinner\, dancing\, silent auction and great fun. Please call Gina at Georgia Mountains Hospice at 706-253-4100 to reserve your table today.
X-ALT-DESC;FMTTYPE=text/html:Georgia Mountains Hospice and WoodmenLife/Richard York will be hosting a Denim and Diamonds event on August 27th at Willow Creek Falls in Blue Ridge. Wear your blue Jeans\, your boots and your bling. An evening of dinner\, dancing\, silent auction and great fun. Please call Gina at Georgia Mountains Hospice at 706-253-4100 to reserve your table today.
LOCATION:Willow Creek Falls and Vineyard
UID:e.256.54005
SEQUENCE:3
DTSTAMP:20260420T183610Z
URL:https://members.visitblairsvillega.com/events/details/denim-and-diamonds-07-27-2016-54005
END:VEVENT

END:VCALENDAR
