BEGIN:VCALENDAR
VERSION:2.0
PRODID:-//ChamberMaster//Event Calendar 2.0//EN
METHOD:PUBLISH
X-PUBLISHED-TTL:P3D
REFRESH-INTERVAL:P3D
CALSCALE:GREGORIAN
BEGIN:VEVENT
DTSTART:20160827T223000Z
DTEND:20160828T030000Z
X-MICROSOFT-CDO-ALLDAYEVENT:FALSE
SUMMARY:Denim and Diamonds
DESCRIPTION:Georgia Mountains Hospice are hosting a fund raiser Denim and Diamonds.  Wear you favorite jeans\, boots and fabulous bling and come out and support this worthy event.  It will be a spectacular evening of dinner\, music\, dancing and silent auction.
X-ALT-DESC;FMTTYPE=text/html:Georgia Mountains Hospice are hosting a fund raiser Denim and Diamonds. &nbsp\;Wear you favorite jeans\, boots and fabulous bling and come out and support this worthy event. &nbsp\;It will be a spectacular evening of dinner\, music\, dancing and silent auction.
LOCATION:Willow Creek Falls & Vineyard - Blue Ridge Georgia
UID:e.256.55877
SEQUENCE:3
DTSTAMP:20260420T162133Z
URL:https://members.visitblairsvillega.com/events/details/denim-and-diamonds-08-27-2016-55877
END:VEVENT

END:VCALENDAR
