BEGIN:VCALENDAR
VERSION:2.0
PRODID:-//ChamberMaster//Event Calendar 2.0//EN
METHOD:PUBLISH
X-PUBLISHED-TTL:P3D
REFRESH-INTERVAL:P3D
CALSCALE:GREGORIAN
BEGIN:VEVENT
DTSTART;VALUE=DATE:20160427
DTEND;VALUE=DATE:20160428
TRANSP:TRANSPARENT
X-MICROSOFT-CDO-ALLDAYEVENT:TRUE
SUMMARY:Denim Day
DESCRIPTION:Wearing jeans on Denim Day has become a symbol of protest against erroneous and destructive attitudes about sexual assault. In this rape prevention education campaign we ask community members\, elected officials\, businesses and students to make a social statement with their fashion by wearing jeans on this day as a visible means of protest against the misconceptions that surround sexual assault. This year's Denim Day is April 27\, 2016. The Commissioner's Office\, Sigma Beta Sigma at Young Harris College\, and Gamma Psi at Young Harris College has pledged to join with S.A.F.E. in this campaign. If your organization or work place would like to join us\, please contact Natasha Kreisle at nkreisle@safeservices.org or 706-379-1901
X-ALT-DESC;FMTTYPE=text/html:Wearing jeans on Denim Day has become a symbol of protest against erroneous and destructive attitudes about sexual assault. In this rape prevention education campaign we ask community members\, elected officials\, businesses and students to make a social statement with their fashion by wearing jeans on this day as a visible means of protest against the misconceptions that surround sexual assault. This year&#39\;s Denim Day is April 27\, 2016. The Commissioner&#39\;s Office\, Sigma Beta Sigma at Young Harris College\, and Gamma Psi at Young Harris College has pledged to join with S.A.F.E. in this campaign. If your organization or work place would like to join us\, please contact Natasha Kreisle at nkreisle@safeservices.org or 706-379-1901
LOCATION:Everywhere
UID:e.256.49830
SEQUENCE:3
DTSTAMP:20260421T001957Z
URL:https://members.visitblairsvillega.com/events/details/denim-day-04-27-2016-49830
END:VEVENT

END:VCALENDAR
