BEGIN:VCALENDAR
VERSION:2.0
PRODID:-//ChamberMaster//Event Calendar 2.0//EN
METHOD:PUBLISH
X-PUBLISHED-TTL:P3D
REFRESH-INTERVAL:P3D
CALSCALE:GREGORIAN
BEGIN:VEVENT
DTSTART:20170421T233000Z
DTEND:20170422T010000Z
X-MICROSOFT-CDO-ALLDAYEVENT:FALSE
SUMMARY:Denver & The Mile High Orchestra
DESCRIPTION:Blending a red hot horn section\, along with jazz and big band roots\, Denver and the Mile High Orchestra have created a power funk sound that defies description and is unlike any other. With Denver Bierman\, writing and arranging the band's music\, the diverse sounds of legends such as Stevie Wonder\, Chicago\, and Earth Wind and Fire combine for a fresh look at contemporary pop. Denver and the Mile High Orchestra wowed all of America\, as they made the finale of the FOX-TV "American Idol" spin off "The Next Great American Band." They've garnered praise and a devoted fan base from Greece to Hollywood\, having played the Summer Olympics in Athens\, and the Winter Olympics in Salt Lake City. While the music is what defines the band\, the live show makes a fan for life. Tight production\, a lot of fun and the unexpected make "DMHO live" an experience like no other.
X-ALT-DESC;FMTTYPE=text/html:Blending a red hot horn section\, along with jazz and big band roots\, Denver and the Mile High Orchestra have created a power funk sound that defies description and is unlike any other. With Denver Bierman\, writing and arranging the band&#39\;s music\, the diverse sounds of legends such as Stevie Wonder\, Chicago\, and Earth Wind and Fire combine for a fresh look at contemporary pop. Denver and the Mile High Orchestra wowed all of America\, as they made the finale of the FOX-TV &quot\;American Idol&quot\; spin off &quot\;The Next Great American Band.&quot\; They&#39\;ve garnered praise and a devoted fan base from Greece to Hollywood\, having played the Summer Olympics in Athens\, and the Winter Olympics in Salt Lake City. While the music is what defines the band\, the live show makes a fan for life. Tight production\, a lot of fun and the unexpected make &quot\;DMHO live&quot\; an experience like no other.
LOCATION:Smoky Mountain Center for the Performing Arts 1028 Georgia Road Franklin\, NC 28734
UID:e.256.64129
SEQUENCE:3
DTSTAMP:20260420T034624Z
URL:https://members.visitblairsvillega.com/events/details/denver-the-mile-high-orchestra-64129
END:VEVENT

END:VCALENDAR
