BEGIN:VCALENDAR
VERSION:2.0
PRODID:-//ChamberMaster//Event Calendar 2.0//EN
METHOD:PUBLISH
X-PUBLISHED-TTL:P3D
REFRESH-INTERVAL:P3D
CALSCALE:GREGORIAN
BEGIN:VEVENT
DTSTART:20170221T210000Z
DTEND:20170221T230000Z
X-MICROSOFT-CDO-ALLDAYEVENT:FALSE
SUMMARY:Department of Transportation Public Information Open House
DESCRIPTION:The Georgia Department of Transportation has scheduled a Public Information Open House on February 21\, 2017. The project being discussed proposes to widen SR 11/US 129 from CR 304/Blue Ridge Street North to CR 236/Nottely Dam Road. Anyone unable to attend the public meeting can go to the DOT website at www.dot.ga.gov and click on Partner Smart\, Public/Media Center and Public Outreach from the list of Featured Links.  The purpose of the open house is to provide the public with an opportunity to view the proposed project\, ask questions and comment on the proposal. If you have any questions\, you may contact Kim Coley\, District Planning and Programming Engineer\, at (770) 531-5748.  If you are unable to attend the meeting\, written comments may be addressed to Mr. Eric Duff\, State Environmental Administrator\, 600 West Peachtree Street\, NW\, Floor 16\, Atlanta\, GA  30308
X-ALT-DESC;FMTTYPE=text/html:The Georgia Department of Transportation has scheduled a Public Information Open House on February 21\, 2017. The project being discussed proposes to widen SR 11/US 129 from CR 304/Blue Ridge Street North to CR 236/Nottely Dam Road. Anyone unable to attend the public meeting can go to the DOT website at www.dot.ga.gov and click on Partner Smart\, Public/Media Center and Public Outreach from the list of Featured Links.&nbsp\; The purpose of the open house is to provide the public with an opportunity to view the proposed project\, ask questions and comment on the proposal. If you have any questions\, you may contact Kim Coley\, District Planning and Programming Engineer\, at (770) 531-5748.&nbsp\; If you are unable to attend the meeting\, written comments may be addressed to Mr. Eric Duff\, State Environmental Administrator\, 600 West Peachtree Street\, NW\, Floor 16\, Atlanta\, GA&nbsp\; 30308
LOCATION:Blairsville Civic Center located at 185 Wellborn Street
UID:e.256.66538
SEQUENCE:3
DTSTAMP:20260420T061347Z
URL:https://members.visitblairsvillega.com/events/details/department-of-transportation-public-information-open-house-66538
END:VEVENT

END:VCALENDAR
