BEGIN:VCALENDAR
VERSION:2.0
PRODID:-//ChamberMaster//Event Calendar 2.0//EN
METHOD:PUBLISH
X-PUBLISHED-TTL:P3D
REFRESH-INTERVAL:P3D
CALSCALE:GREGORIAN
BEGIN:VEVENT
DTSTART:20161119T130000Z
DTEND:20161119T170000Z
X-MICROSOFT-CDO-ALLDAYEVENT:FALSE
SUMMARY:Deputy Mitchell Henderson Prayer Walk and 5K
DESCRIPTION:"BACK THE BLUE"  ALL PROCEEDS TO BENEFIT DEPUTY MITCHELL HENDERSON!!!!! Below is the link to the Facebook page event so you can all share that you will be attending.  Please invite your friends to this event through the Facebook link below and share this with everyone through email as well. Some of Mitchell's family will be there so let's show our love and support by an overwhelmingly large turnout. I hope to see you all there!\n\n An account at UCB has been set up if you would like to make a donation.\n\n"Mitchell Henderson Benefit Account."\n\n Back the BLUE!!!\n\n As always\, please continue to pray for him and his family.\n\n https://www.facebook.com/events/1618873821743117/
X-ALT-DESC;FMTTYPE=text/html:<strong>&quot\;BACK THE BLUE&quot\;</strong> &nbsp\;ALL PROCEEDS TO BENEFIT DEPUTY MITCHELL HENDERSON!!!!! Below is the link to the Facebook page event so you can all share that you will be attending.&nbsp\; Please invite your friends to this event through the&nbsp\;Facebook link below&nbsp\;and share this with everyone through email as well. Some of Mitchell&#39\;s family will be there so let&#39\;s show our love and support by&nbsp\;an overwhelmingly large turnout. I hope to see you all there!<br />\n&nbsp\;An account at UCB has been set up if you would like to make a donation.<br />\n&quot\;Mitchell Henderson Benefit Account.&quot\;<br />\n&nbsp\;<strong>Back the BLUE!!!</strong><br />\n&nbsp\;As always\, please continue to&nbsp\;pray for him and his family.<br />\n&nbsp\;<a href="https://www.facebook.com/events/1618873821743117/">https://www.facebook.com/events/1618873821743117/</a>
LOCATION:Meeks Park\, 490 Meeks Park Road\, Blairsville GA 30512
UID:e.256.59725
SEQUENCE:3
DTSTAMP:20260420T113046Z
URL:https://members.visitblairsvillega.com/events/details/deputy-mitchell-henderson-prayer-walk-and-5k-59725
END:VEVENT

END:VCALENDAR
