BEGIN:VCALENDAR
VERSION:2.0
PRODID:-//ChamberMaster//Event Calendar 2.0//EN
METHOD:PUBLISH
X-PUBLISHED-TTL:P3D
REFRESH-INTERVAL:P3D
CALSCALE:GREGORIAN
BEGIN:VEVENT
DTSTART:20150409T153000Z
DTEND:20150409T200000Z
X-MICROSOFT-CDO-ALLDAYEVENT:FALSE
SUMMARY:Derrick Whittle Blood Drive
DESCRIPTION:Blood Assurance will be at the Union County Courthouse for the Derrick Whittle Blood Drive. 1 Donation of Blood Saves 3 Lives!\n\n\n\nDerrick Whittle Made Giving a Way of Life
X-ALT-DESC;FMTTYPE=text/html:Blood Assurance will be at the Union County Courthouse for the Derrick Whittle Blood Drive. 1 Donation of Blood Saves 3 Lives!<br />\n<br />\nDerrick Whittle Made Giving a Way of Life
LOCATION:Union County Courthouse (Inside)
UID:e.256.37738
SEQUENCE:3
DTSTAMP:20260423T200328Z
URL:https://members.visitblairsvillega.com/events/details/derrick-whittle-blood-drive-04-09-2015-37738
END:VEVENT

END:VCALENDAR
