BEGIN:VCALENDAR
VERSION:2.0
PRODID:-//ChamberMaster//Event Calendar 2.0//EN
METHOD:PUBLISH
X-PUBLISHED-TTL:P3D
REFRESH-INTERVAL:P3D
CALSCALE:GREGORIAN
BEGIN:VEVENT
DTSTART:20150508T233000Z
DTEND:20150508T160000Z
X-MICROSOFT-CDO-ALLDAYEVENT:FALSE
SUMMARY:Desert and Theater
DESCRIPTION:Fundraiser: Dogsbreath Devereaux the Dastardly Doctor of Nurses! Foiled Again. Hillarious antics ensue as Dogsbreath tries to woo the rich widow who owns the clinic where he works.
X-ALT-DESC;FMTTYPE=text/html:Fundraiser: Dogsbreath Devereaux the Dastardly Doctor of Nurses! Foiled Again. Hillarious antics ensue as Dogsbreath tries to woo the rich widow who owns the clinic where he works.
LOCATION:34 Creekside Plaza Hayesville\, NC 28904
UID:e.256.38100
SEQUENCE:3
DTSTAMP:20260423T182158Z
URL:https://members.visitblairsvillega.com/events/details/desert-and-theater-05-08-2015-38100
END:VEVENT

END:VCALENDAR
