BEGIN:VCALENDAR
VERSION:2.0
PRODID:-//ChamberMaster//Event Calendar 2.0//EN
METHOD:PUBLISH
X-PUBLISHED-TTL:P3D
REFRESH-INTERVAL:P3D
CALSCALE:GREGORIAN
BEGIN:VEVENT
DTSTART:20150326T210000Z
DTEND:20150326T223000Z
X-MICROSOFT-CDO-ALLDAYEVENT:FALSE
SUMMARY:Detoxification for Optimal Health
DESCRIPTION:You are invited to join us for an Extended Group Medical Visit with Cynthia Libert\, M.D. MARCH 26\, 2015 TOPIC: Detoxification for Optimal Health Lose unwanted body fat and bothersome physical symptoms through detoxification. Learn safe\, natural ways to support your body?s own detox systems through clean foods and gentle phytotherapy. Dr. Libert or the Lead Healthcare Professional specializing in the topic will give a 30-45 minute in-depth lecture followed by a group question and answer session. Please feel free to bring a guest! Billing for Group Visits: The American Academy of Family Practice has developed an insurance-friendly method of allowing patients to be a part of Extended Group Medical Visits. These visits will be handled just like normal doctor?s appointment with the usual co-pays and insurance submission will apply. Please call 706-745-0200 or email Farah Reese\, Team Leader/Office Coordinator\, at farah@drlibert.org to reserve your Extended Group Medical Visit appointment today.
X-ALT-DESC;FMTTYPE=text/html:You are invited to join us for an Extended Group Medical Visit with Cynthia Libert\, M.D. MARCH 26\, 2015 TOPIC: Detoxification for Optimal Health Lose unwanted body fat and bothersome physical symptoms through detoxification. Learn safe\, natural ways to support your body?s own detox systems through clean foods and gentle phytotherapy. Dr. Libert or the Lead Healthcare Professional specializing in the topic will give a 30-45 minute in-depth lecture followed by a group question and answer session. Please feel free to bring a guest! Billing for Group Visits: The American Academy of Family Practice has developed an insurance-friendly method of allowing patients to be a part of Extended Group Medical Visits. These visits will be handled just like normal doctor?s appointment with the usual co-pays and insurance submission will apply. Please call 706-745-0200 or email Farah Reese\, Team Leader/Office Coordinator\, at farah@drlibert.org to reserve your Extended Group Medical Visit appointment today.
LOCATION:Life Wellness Center 15 Earnest Drive Blairsville\, GA 30512
UID:e.256.37741
SEQUENCE:3
DTSTAMP:20260423T225134Z
URL:https://members.visitblairsvillega.com/events/details/detoxification-for-optimal-health-03-26-2015-37741
END:VEVENT

END:VCALENDAR
