BEGIN:VCALENDAR
VERSION:2.0
PRODID:-//ChamberMaster//Event Calendar 2.0//EN
METHOD:PUBLISH
X-PUBLISHED-TTL:P3D
REFRESH-INTERVAL:P3D
CALSCALE:GREGORIAN
BEGIN:VEVENT
DTSTART:20140809T233000Z
DTEND:20140810T020000Z
X-MICROSOFT-CDO-ALLDAYEVENT:FALSE
SUMMARY:Diane Durrett in Concert
DESCRIPTION:Known as the "Blue-eyed Soulstress" Diane Durrett and the Soul Suga Band will bring their blend of raw soulful vocals and sultry tones to the Blue Ridge stage on Saturday\, August 9.  Durrett has sung with Sting\, The Indigo Girls\, Gregg Allman\, Chuck Leavell (Rolling Stones) and Peter Stroud (Sheryl Crow). Durrett has opened shows for Tina Turner\, Faith Hill\, Little Feat\, Delbert McClinton\, Jimmy Hall and Derek Trucks\, as well lending her vocals to recording sessions for Grammy award winning producer Brendan O'Brien. Additional information at www.dianedurrett.com Live Music Is Better concert series is sponsored by the Blue Ridge Community Theater\, Inc. a 501- (c) 3 volunteer based non-profit corporation committed to bringing excellent performing arts entertainment to the North Georgia communities. For more information about Main Stage productions\, Sunny D Children?s Theater or the music concert series go to www.BlueRidgeCommunityTheater.com.
X-ALT-DESC;FMTTYPE=text/html:Known as the &quot\;Blue-eyed Soulstress&quot\; Diane Durrett and the Soul Suga Band will bring their blend of raw soulful vocals and sultry tones to the Blue Ridge stage on Saturday\, August 9.&nbsp\;&nbsp\;Durrett has sung with Sting\, The Indigo Girls\, Gregg Allman\, Chuck Leavell (Rolling Stones) and Peter Stroud (Sheryl Crow). Durrett has opened shows for Tina Turner\, Faith Hill\, Little Feat\, Delbert McClinton\, Jimmy Hall and Derek Trucks\, as well lending her vocals to recording sessions for Grammy award winning producer Brendan O&#39\;Brien. Additional information at www.dianedurrett.com Live Music Is Better concert series is sponsored by the Blue Ridge Community Theater\, Inc. a 501- (c) 3 volunteer based non-profit corporation committed to bringing excellent performing arts entertainment to the North Georgia communities. For more information about Main Stage productions\, Sunny D Children?s Theater or the music concert series go to www.BlueRidgeCommunityTheater.com. &nbsp\; &nbsp\; 
LOCATION:Blue Ridge Community Theater 2591 East First Street Blue Ridge\, GA
UID:e.256.23655
SEQUENCE:3
DTSTAMP:20260424T073740Z
URL:https://members.visitblairsvillega.com/events/details/diane-durrett-in-concert-08-09-2014-23655
END:VEVENT

END:VCALENDAR
