BEGIN:VCALENDAR
VERSION:2.0
PRODID:-//ChamberMaster//Event Calendar 2.0//EN
METHOD:PUBLISH
X-PUBLISHED-TTL:P3D
REFRESH-INTERVAL:P3D
CALSCALE:GREGORIAN
BEGIN:VEVENT
DTSTART:20160225T130000Z
DTEND:20160225T213000Z
X-MICROSOFT-CDO-ALLDAYEVENT:FALSE
SUMMARY:Digital Marketing Bootcamp
DESCRIPTION:A workshop designed specifically for small business owners who want to learn to integrate technology and marketing in the digital space to increase profits and gain customers.  Learn how to: 1) Make search engines work for your business\; 2)Use social media to cultivate brand ambassadors\; 3)Look into the future and examine the powerful applications made possible by broadband technology\; 4) Tap into the mobile marketplace\; 5) Effectively utilize paid online advertising\; 6) Learn about free tools to improve traffic to your website\; 7) Use photos and video to promote your products and educate your customers.
X-ALT-DESC;FMTTYPE=text/html:A workshop designed specifically for small business owners who want to learn to integrate technology and marketing in the digital space to increase profits and gain customers.&nbsp\; Learn how to: 1) Make search engines work for your business\; 2)Use social media to cultivate brand ambassadors\; 3)Look into the future and examine the powerful applications made possible by broadband technology\; 4) Tap into the mobile marketplace\; 5) Effectively utilize paid online advertising\; 6) Learn about free tools to improve traffic to your website\; 7) Use photos and video to promote your products and educate your customers.
LOCATION:Brenau University Downtown Center 301 Main Street SW Gainesville\, GA 30501
UID:e.256.48313
SEQUENCE:3
DTSTAMP:20260421T035704Z
URL:https://members.visitblairsvillega.com/events/details/digital-marketing-bootcamp-02-25-2016-48313
END:VEVENT

END:VCALENDAR
