BEGIN:VCALENDAR
VERSION:2.0
PRODID:-//ChamberMaster//Event Calendar 2.0//EN
METHOD:PUBLISH
X-PUBLISHED-TTL:P3D
REFRESH-INTERVAL:P3D
CALSCALE:GREGORIAN
BEGIN:VEVENT
DTSTART:20170812T170000Z
DTEND:20170812T200000Z
X-MICROSOFT-CDO-ALLDAYEVENT:FALSE
SUMMARY:Direct Sales Divas: Back to School fall catalog launch
DESCRIPTION:Come and check out some ahhh-mazing skincare\, superfoods\, herbal remedies\, jewelry and make-up with\n\nsome of the top sales leaders in the direct selling industry.  \n\nShop\, browse\, book your fall parties or maybe even join us if you have a purpose and passion to work\n\non your own schedule from home.\n\nNew catalogs are launching from many of our businesses for fall so if you're ready to party with a passion from\n\ninside-out health/wellness and beauty/fashion\, come and check us out.
X-ALT-DESC;FMTTYPE=text/html:Come and check out some ahhh-mazing skincare\, superfoods\, herbal remedies\, jewelry and make-up with<br />\nsome of the top sales leaders in the direct selling industry. &nbsp\;<br />\nShop\, browse\, book your fall parties or maybe even join us if you have a purpose and passion to work<br />\non your own schedule from home.<br />\nNew catalogs are launching from many of our businesses for fall so if you&#39\;re ready to party with a passion from<br />\ninside-out health/wellness and beauty/fashion\, come and check us out.
LOCATION:Union County Community Center Home of the BUCCC and The View Grill. 1st Floor meeting room.
UID:e.256.75601
SEQUENCE:3
DTSTAMP:20260419T210249Z
URL:https://members.visitblairsvillega.com/events/details/direct-sales-divas-back-to-school-fall-catalog-launch-75601
END:VEVENT

END:VCALENDAR
