BEGIN:VCALENDAR
VERSION:2.0
PRODID:-//ChamberMaster//Event Calendar 2.0//EN
METHOD:PUBLISH
X-PUBLISHED-TTL:P3D
REFRESH-INTERVAL:P3D
CALSCALE:GREGORIAN
BEGIN:VEVENT
DTSTART;VALUE=DATE:20141104
DTEND;VALUE=DATE:20141105
TRANSP:TRANSPARENT
X-MICROSOFT-CDO-ALLDAYEVENT:TRUE
SUMMARY:Discover Global Markets - Sub Saharan Africa
DESCRIPTION:Boost business through exports
X-ALT-DESC;FMTTYPE=text/html:Boost business through exports
LOCATION:Atlanta Marriott Buckhead Hotel & Conference Center
UID:e.256.26237
SEQUENCE:3
DTSTAMP:20260424T033845Z
URL:https://members.visitblairsvillega.com/events/details/discover-global-markets-sub-saharan-africa-11-04-2014-26237
END:VEVENT

END:VCALENDAR
