BEGIN:VCALENDAR
VERSION:2.0
PRODID:-//ChamberMaster//Event Calendar 2.0//EN
METHOD:PUBLISH
X-PUBLISHED-TTL:P3D
REFRESH-INTERVAL:P3D
CALSCALE:GREGORIAN
BEGIN:VEVENT
DTSTART:20150424T230000Z
DTEND:20150425T010000Z
X-MICROSOFT-CDO-ALLDAYEVENT:FALSE
SUMMARY:Dismembered Tennesseans at John C. Campbell Folk School
DESCRIPTION:Dismembered Tennesseans-bluegrass music & fancy fiddlin' at it's best
X-ALT-DESC;FMTTYPE=text/html:<div>Dismembered Tennesseans-bluegrass music &amp\; fancy fiddlin&rsquo\; at it&rsquo\;s best</div>\n
LOCATION:Community Room at John C. Campbell Folk School Brasstown\, NC 28902
UID:e.256.37728
SEQUENCE:3
DTSTAMP:20260423T200759Z
URL:https://members.visitblairsvillega.com/events/details/dismembered-tennesseans-at-john-c-campbell-folk-school-04-24-2015-37728
END:VEVENT

END:VCALENDAR
