BEGIN:VCALENDAR
VERSION:2.0
PRODID:-//ChamberMaster//Event Calendar 2.0//EN
METHOD:PUBLISH
X-PUBLISHED-TTL:P3D
REFRESH-INTERVAL:P3D
CALSCALE:GREGORIAN
BEGIN:VEVENT
DTSTART:20160715T233000Z
DTEND:20160716T013000Z
X-MICROSOFT-CDO-ALLDAYEVENT:FALSE
SUMMARY:Disney's The Little Mermaid\, the Broadway Musical
DESCRIPTION:Dates: July 15\, 16\, 22 & 23\, 2016 Show Time: 7:30 PM Ticket Prices: $12 Students\, $17 Adults -  Ariel\, King Triton's youngest daughter\, wishes to pursue the human Prince Eric in the world above and bargains with the evil sea witch\, Ursula\, to trade her tail for legs. But the bargain is not what it seems and Ariel needs the help of her colorful friends Flounder the fish\, Scuttle the seagull\, and Sebastian the crab to restore order under the sea. Based on Hans Christian Andersen's beloved story and the classic animated film\, Disney's The Little Mermaid is a hauntingly beautiful love story for the ages. With music by Alan Menken\, lyrics by Howard Ashman and Glenn Slater\, this live stage show will capture your heart with its irresistible songs including "Under the Sea\," "Kiss the Girl" and "Part of Your World." Presented by the Overlook Theatre Company
X-ALT-DESC;FMTTYPE=text/html:Dates: July 15\, 16\, 22 &amp\; 23\, 2016 Show Time: 7:30 PM Ticket Prices: $12 Students\, $17 Adults - &nbsp\;Ariel\, King Triton&#39\;s youngest daughter\, wishes to pursue the human Prince Eric in the world above and bargains with the evil sea witch\, Ursula\, to trade her tail for legs. But the bargain is not what it seems and Ariel needs the help of her colorful friends Flounder the fish\, Scuttle the seagull\, and Sebastian the crab to restore order under the sea. Based on Hans Christian Andersen&#39\;s beloved story and the classic animated film\, Disney&#39\;s The Little Mermaid is a hauntingly beautiful love story for the ages. With music by Alan Menken\, lyrics by Howard Ashman and Glenn Slater\, this live stage show will capture your heart with its irresistible songs including &quot\;Under the Sea\,&quot\; &quot\;Kiss the Girl&quot\; and &quot\;Part of Your World.&quot\; Presented by the Overlook Theatre Company
LOCATION:Smoky Mountain Center for the Performing Arts 1028 Georgia Road Franklin\, NC 28734
UID:e.256.49327
SEQUENCE:3
DTSTAMP:20260420T204559Z
URL:https://members.visitblairsvillega.com/events/details/disney-s-the-little-mermaid-the-broadway-musical-07-15-2016-49327
END:VEVENT

END:VCALENDAR
