BEGIN:VCALENDAR
VERSION:2.0
PRODID:-//ChamberMaster//Event Calendar 2.0//EN
METHOD:PUBLISH
X-PUBLISHED-TTL:P3D
REFRESH-INTERVAL:P3D
CALSCALE:GREGORIAN
BEGIN:VEVENT
DTSTART:20170105T150000Z
DTEND:20170105T230000Z
X-MICROSOFT-CDO-ALLDAYEVENT:FALSE
SUMMARY:Dixie Confexions Grand Opening on the Square
DESCRIPTION:DIXIE CONFEXIONS OPENS RETAIL STORE ON THE SQUARE IN BLAIRSVILLE\n\nTHURSDAY\, JANUARY 5\, 2017\n\n\n\n            BLAIRSVILLE\, GEORGIA -- Dixie Confexions\, LLC\, is pleased to announce that it is opening a retail store on The Square in Dowtown Blairsville January 5.  The shop will be stocked with a large assortment of cupcakes\, cakes\, and other desserts.  Shoppers will also be able to place orders for wedding\, birthday\, or other special event cakes.\n\n\n\n            "This is truly a wonderful milestone for our cakery\," said Dixie Confexions Partner Jody Atkins. "Baking and decorating have been our passion for so long\, and we are thrilled that we will have a local shop to expand our reach even further."\n\n\n\n            Store hours will be Tuesday through Friday\, 10:00am-6:00pm\, Saturday\, 10:00am-4:00pm\, and Sunday\, 12:00pm-4:00pm.\n\n\n\nAbout Dixie Confexions\n\n        Dixie Confexions is Blairsville's newest hometown cakery where decadence meets imagination. Dixie specializes in cakes for every occasion\, birthdays\, weddings\, corporate events\, and more.  It also features a signature line of cupcakes that will please even the most exacting taste buds.  Our custom cake recipes are inspired by family traditions that span decades\; however\, the magic doesn't stop with the cake.  It extends to our special icing flavors and designs.  They are baked from scratch using only the finest ingredients.\n\n \n\n            Jody and Ricky Atkins launched the business about five months ago\, after a 20-year career in the hospitality industry planning national conferences\, trade shows\, and special events.  As Head Chef\, Ricky constructs the cake flavors and recipes while Culinary Designer\, Jody\, forms the icing pairings and decorations.  Dixie Confexions is a Cottage Food. Operation and its chefs are all ServSafe Food Protection Certified Managers who adhere to the highest level of food safety guidelines.  \n\n        To contact Dixie Confexions\, call (762) 448-9077 or email jody@dixieconfexions.com.  \n\n \n\n###
X-ALT-DESC;FMTTYPE=text/html:<div style="text-align:center"><span style="font-size:12px"><strong><span style="font-size:14px">DIXIE CONFEXIONS OPENS RETAIL STORE ON THE SQUARE IN BLAIRSVILLE<br />\nTHURSDAY\, JANUARY 5\, 2017</span></strong></span></div>\n\n<div><br />\n<span style="font-size:14px"><span style="font-family:arial\,helvetica\,sans-serif">&nbsp\;&nbsp\;&nbsp\;&nbsp\;&nbsp\;&nbsp\;&nbsp\;&nbsp\;&nbsp\;&nbsp\;&nbsp\; <strong>BLAIRSVILLE\, GEORGIA -- </strong>Dixie Confexions\, LLC\, is pleased to announce that it is opening a retail store on The Square in Dowtown Blairsville January 5.&nbsp\; The shop will be stocked with a large assortment of cupcakes\, cakes\, and other desserts.&nbsp\; Shoppers will also be able to place orders for wedding\, birthday\, or other special event cakes.<br />\n<br />\n&nbsp\;&nbsp\;&nbsp\;&nbsp\;&nbsp\;&nbsp\;&nbsp\;&nbsp\;&nbsp\;&nbsp\;&nbsp\; &quot\;This is truly a wonderful milestone for our cakery\,&quot\; said Dixie Confexions Partner Jody Atkins. &quot\;Baking and decorating have been our passion for so long\, and we are thrilled that we will have a local shop to expand our reach even further.&quot\;<br />\n<br />\n&nbsp\;&nbsp\;&nbsp\;&nbsp\;&nbsp\;&nbsp\;&nbsp\;&nbsp\;&nbsp\;&nbsp\;&nbsp\; Store hours will be Tuesday through Friday\, 10:00am-6:00pm\, Saturday\, 10:00am-4:00pm\, and Sunday\, 12:00pm-4:00pm.<br />\n<br />\n<strong>About Dixie Confexions</strong><br />\n&nbsp\;&nbsp\;&nbsp\;&nbsp\;&nbsp\;&nbsp\;&nbsp\; Dixie Confexions is Blairsville&rsquo\;s newest hometown cakery where decadence meets imagination. Dixie specializes in cakes for every occasion\, birthdays\, weddings\, corporate events\, and more.&nbsp\; It also features a signature line of cupcakes that will please even the most exacting taste buds.&nbsp\; Our custom cake recipes are inspired by family traditions that span decades\; however\, the magic doesn&rsquo\;t stop with the cake.&nbsp\; It extends to our special icing flavors and designs.&nbsp\; They are baked from scratch using only the finest ingredients.<br />\n&nbsp\;<br />\n&nbsp\;&nbsp\;&nbsp\;&nbsp\;&nbsp\;&nbsp\;&nbsp\;&nbsp\;&nbsp\;&nbsp\;&nbsp\;&nbsp\;Jody and Ricky Atkins launched the business about five months ago\, after a 20-year career in the hospitality industry planning national conferences\, trade shows\, and special events.&nbsp\; As Head Chef\, Ricky constructs the cake flavors and recipes while Culinary Designer\, Jody\, forms the icing pairings and decorations.&nbsp\; Dixie Confexions is a Cottage Food. Operation and its chefs are all ServSafe Food Protection Certified Managers who adhere to the highest level of food safety guidelines.&nbsp\; </span></span></div>\n\n<p><span style="font-size:14px"><span style="font-family:arial\,helvetica\,sans-serif">&nbsp\;&nbsp\;&nbsp\;&nbsp\;&nbsp\;&nbsp\;&nbsp\; To contact Dixie Confexions\, call (762) 448-9077 or email jody@dixieconfexions.com.&nbsp\; </span></span><br />\n&nbsp\;</p>\n\n<p style="text-align:center"><span style="font-size:14px"><span style="font-family:arial\,helvetica\,sans-serif">###</span></span></p>\n\n<div>&nbsp\;</div>\n
LOCATION:Dixie Confexions\, LLC 40 B Town Square Blairsville\, GA 30512
UID:e.256.62181
SEQUENCE:3
DTSTAMP:20260420T074914Z
URL:https://members.visitblairsvillega.com/events/details/dixie-confexions-grand-opening-on-the-square-62181
END:VEVENT

END:VCALENDAR
