BEGIN:VCALENDAR
VERSION:2.0
PRODID:-//ChamberMaster//Event Calendar 2.0//EN
METHOD:PUBLISH
X-PUBLISHED-TTL:P3D
REFRESH-INTERVAL:P3D
CALSCALE:GREGORIAN
BEGIN:VEVENT
DTSTART:20140610T223000Z
DTEND:20140611T010000Z
X-MICROSOFT-CDO-ALLDAYEVENT:FALSE
SUMMARY:Do You Sing? Join our Smokie Mountain Melodies Chorus!
DESCRIPTION:Smokie Mountain Melodies is an organization of female singers\, who meet regularly to practice\, perform\, socialize\, and have fun!\n\nThe main purpose of the chorus is to get out and sing for our community. We sing in annual shows\, a number of community events\, and at an annual competition. Real Women. Real Harmony\, Real Fun\n\n\n\nCLICK HERE to learn more!
X-ALT-DESC;FMTTYPE=text/html:Smokie Mountain Melodies is an organization of female singers\, who meet regularly to practice\, perform\, socialize\, and have fun!<br />\nThe main purpose of the chorus is to get out and sing for our community. We sing in annual shows\, a number of community events\, and at an annual competition. <em><strong>Real Women. Real Harmony\, Real Fun<br />\n<br />\n<a href="http://members.visitblairsvillega.com/list/member/smokie-mountain-melodies-blairsville-425">CLICK HERE</a> to learn more!</strong></em>
LOCATION:First United Methodist Church of Union County 938 Hwy 515 Blairsville\, GA
UID:e.256.23722
SEQUENCE:3
DTSTAMP:20260424T105510Z
URL:https://members.visitblairsvillega.com/events/details/do-you-sing-join-our-smokie-mountain-melodies-chorus-06-10-2014-23722
END:VEVENT

END:VCALENDAR
