BEGIN:VCALENDAR
VERSION:2.0
PRODID:-//ChamberMaster//Event Calendar 2.0//EN
METHOD:PUBLISH
X-PUBLISHED-TTL:P3D
REFRESH-INTERVAL:P3D
CALSCALE:GREGORIAN
BEGIN:VEVENT
DTSTART:20140422T223000Z
DTEND:20140422T223000Z
X-MICROSOFT-CDO-ALLDAYEVENT:FALSE
SUMMARY:Do You Sing? Join our Sweet Adeline Chorus!
DESCRIPTION:Smokie Mountain Melodies\, a chapter of Sweet Adelines International\, is an organization of female singers\, who meet regularly to practice\, perform\, socialize\, and have fun!\n\nThe main purpose of the chorus is to get out and sing for our community. We sing in annual shows\, a number of community events\, and at an annual competition. Real Women. Real Harmony\, Real Fun
X-ALT-DESC;FMTTYPE=text/html:Smokie Mountain Melodies\, a chapter of Sweet Adelines International\, is an organization of female singers\, who meet regularly to practice\, perform\, socialize\, and have fun!<br />\nThe main purpose of the chorus is to get out and sing for our community. We sing in annual shows\, a number of community events\, and at an annual competition. <em><strong>Real Women. Real Harmony\, Real Fun</strong></em>
LOCATION:First United Methodist Church of Union County 938 Hwy 515 Blairsville\, GA
UID:e.256.23715
SEQUENCE:3
DTSTAMP:20260424T133719Z
URL:https://members.visitblairsvillega.com/events/details/do-you-sing-join-our-sweet-adeline-chorus-04-22-2014-23715
END:VEVENT

END:VCALENDAR
