BEGIN:VCALENDAR
VERSION:2.0
PRODID:-//ChamberMaster//Event Calendar 2.0//EN
METHOD:PUBLISH
X-PUBLISHED-TTL:P3D
REFRESH-INTERVAL:P3D
CALSCALE:GREGORIAN
BEGIN:VEVENT
DTSTART:20150610T120000Z
DTEND:20150610T160000Z
X-MICROSOFT-CDO-ALLDAYEVENT:FALSE
SUMMARY:Dockery Lake Senior Rodeo
DESCRIPTION:SENIORS FISHING RODEO\n\nFree event open to adults ages 55 and older. Bring your own fishing gear and bait. Free refreshments and prizes.
X-ALT-DESC;FMTTYPE=text/html:SENIORS FISHING RODEO<br />\nFree event open to adults ages 55 and older. Bring your own fishing gear and bait. Free refreshments and prizes.<br />\n&nbsp\;
LOCATION:Dockery Lake: From Blairsville take U.S. 19/129 south for 10.0 miles\, turn right on GA Highway 180. Go approximately 11.0 miles. Turn left on GA Highway 60\, go 4.0 miles to Forest Service Road 654 on the left.
UID:e.256.27592
SEQUENCE:3
DTSTAMP:20260423T165342Z
URL:https://members.visitblairsvillega.com/events/details/dockery-lake-senior-rodeo-06-10-2015-27592
END:VEVENT

END:VCALENDAR
